BEGIN:VCALENDAR
VERSION:2.0
PRODID:-//Contratero//ES
CALSCALE:GREGORIAN
METHOD:PUBLISH
BEGIN:VEVENT
UID:CIN-2024-004@contratero.es
DTSTAMP:20260421T023937Z
DTSTART:20241021T235959
DTEND:20241022T005959
SUMMARY:Cierre: Servicios de mantenimiento de las aplicaciones inf
DESCRIPTION:Servicios de mantenimiento de las aplicaciones informáticas para la Fundación Instituto Estudios de Ciencias de la Salud de Castilla y León\\n\\nOrganismo: Fundación Instituto de Estudios Ciencias de la Salud de Castilla y León\\n\\nVer en Contratero: https://contratero.es/contracts/CIN-2024-004
URL:https://contratero.es/contracts/CIN-2024-004
STATUS:CONFIRMED
BEGIN:VALARM
TRIGGER:-P1D
ACTION:DISPLAY
DESCRIPTION:Recordatorio: Servicios de mantenimiento de 
END:VALARM
END:VEVENT
END:VCALENDAR