BEGIN:VCALENDAR
VERSION:2.0
PRODID:-//Contratero//ES
CALSCALE:GREGORIAN
METHOD:PUBLISH
BEGIN:VEVENT
UID:CIf/CA/086/2025@contratero.es
DTSTAMP:20260420T153246Z
DTSTART:20251202T235959
DTEND:20251203T005959
SUMMARY:Cierre: Suministro de software para la gestión de los ceme
DESCRIPTION:Suministro de software para la gestión de los cementerios del Ayuntamiento de Langreo\\n\\nOrganismo: Alcaldía del Ayuntamiento de Langreo\\n\\nVer en Contratero: https://contratero.es/contracts/CIf/CA/086/2025
URL:https://contratero.es/contracts/CIf/CA/086/2025
STATUS:CONFIRMED
BEGIN:VALARM
TRIGGER:-P1D
ACTION:DISPLAY
DESCRIPTION:Recordatorio: Suministro de software para la
END:VALARM
END:VEVENT
END:VCALENDAR