BEGIN:VCALENDAR
VERSION:2.0
PRODID:-//Contratero//ES
CALSCALE:GREGORIAN
METHOD:PUBLISH
BEGIN:VEVENT
UID:CIf/CN/091/2024@contratero.es
DTSTAMP:20260420T151552Z
DTSTART:20250204T235959
DTEND:20250205T005959
SUMMARY:Cierre: Servicio de mantenimiento integral y asistencia té
DESCRIPTION:Servicio de mantenimiento integral y asistencia técnica del control de acceso Net Access (centro de estudios y sala de tiro)\\n\\nOrganismo: Alcaldía del Ayuntamiento de Langreo\\n\\nVer en Contratero: https://contratero.es/contracts/CIf/CN/091/2024
URL:https://contratero.es/contracts/CIf/CN/091/2024
STATUS:CONFIRMED
BEGIN:VALARM
TRIGGER:-P1D
ACTION:DISPLAY
DESCRIPTION:Recordatorio: Servicio de mantenimiento inte
END:VALARM
END:VEVENT
END:VCALENDAR