BEGIN:VCALENDAR
VERSION:2.0
PRODID:-//Contratero//ES
CALSCALE:GREGORIAN
METHOD:PUBLISH
BEGIN:VEVENT
UID:CJ/CN/063/2025@contratero.es
DTSTAMP:20260421T111017Z
DTSTART:20250917T235959
DTEND:20250918T005959
SUMMARY:Cierre: Suministro software MundoArti para la gestión del 
DESCRIPTION:Suministro software MundoArti para la gestión del concurso Certamen de Artes Plásticas Art Nalon para el Ayuntamiento de Langreo\\n\\nOrganismo: Alcaldía del Ayuntamiento de Langreo\\n\\nVer en Contratero: https://contratero.es/contracts/CJ/CN/063/2025
URL:https://contratero.es/contracts/CJ/CN/063/2025
STATUS:CONFIRMED
BEGIN:VALARM
TRIGGER:-P1D
ACTION:DISPLAY
DESCRIPTION:Recordatorio: Suministro software MundoArti 
END:VALARM
END:VEVENT
END:VCALENDAR