BEGIN:VCALENDAR
VERSION:2.0
PRODID:-//Contratero//ES
CALSCALE:GREGORIAN
METHOD:PUBLISH
BEGIN:VEVENT
UID:CL/25@contratero.es
DTSTAMP:20260420T124006Z
DTSTART:20260203T235959
DTEND:20260204T005959
SUMMARY:Cierre: Contratación de soporte y mantenimiento de Sistema
DESCRIPTION:Contratación de soporte y mantenimiento de Sistemas NetApp y licencias Commvault\\n\\nOrganismo: Empresa Provincial de Informática\, S.A.\\n\\nVer en Contratero: https://contratero.es/contracts/CL/25
URL:https://contratero.es/contracts/CL/25
STATUS:CONFIRMED
BEGIN:VALARM
TRIGGER:-P1D
ACTION:DISPLAY
DESCRIPTION:Recordatorio: Contratación de soporte y mant
END:VALARM
END:VEVENT
END:VCALENDAR