BEGIN:VCALENDAR
VERSION:2.0
PRODID:-//Contratero//ES
CALSCALE:GREGORIAN
METHOD:PUBLISH
BEGIN:VEVENT
UID:CL_041/2025@contratero.es
DTSTAMP:20260425T215205Z
DTSTART:20251105T235959
DTEND:20251106T005959
SUMMARY:Cierre: Servicio de control de accesos para la Fundación d
DESCRIPTION:Servicio de control de accesos para la Fundación del Teatro Real FSP\\n\\nOrganismo: Dirección General de la Fundación del Teatro Real\\n\\nVer en Contratero: https://contratero.es/contracts/CL_041/2025
URL:https://contratero.es/contracts/CL_041/2025
STATUS:CONFIRMED
BEGIN:VALARM
TRIGGER:-P1D
ACTION:DISPLAY
DESCRIPTION:Recordatorio: Servicio de control de accesos
END:VALARM
END:VEVENT
END:VCALENDAR