BEGIN:VCALENDAR
VERSION:2.0
PRODID:-//Contratero//ES
CALSCALE:GREGORIAN
METHOD:PUBLISH
BEGIN:VEVENT
UID:CM/05-2024/A@contratero.es
DTSTAMP:20260421T015623Z
DTSTART:20241212T235959
DTEND:20241213T005959
SUMMARY:Cierre: Servicio de implantación\, desarrollo e integración
DESCRIPTION:Servicio de implantación\, desarrollo e integración una plataforma OTT 2.0 para Empresa Municipal de Gestión de Medios de Comunicación de Málaga\, S.A.\\n\\nOrganismo: Gerencia de la Empresa Municipal de Gestión de Medios de Comunicación de Málaga\, S.A.\\n\\nVer en Contratero: https://contratero.es/contracts/CM/05-2024/A
URL:https://contratero.es/contracts/CM/05-2024/A
STATUS:CONFIRMED
BEGIN:VALARM
TRIGGER:-P1D
ACTION:DISPLAY
DESCRIPTION:Recordatorio: Servicio de implantación\, desa
END:VALARM
END:VEVENT
END:VCALENDAR