BEGIN:VCALENDAR
VERSION:2.0
PRODID:-//Contratero//ES
CALSCALE:GREGORIAN
METHOD:PUBLISH
BEGIN:VEVENT
UID:CMAYOR/2025/HPC00/0800@contratero.es
DTSTAMP:20260422T032901Z
DTSTART:20250527T235959
DTEND:20250528T005959
SUMMARY:Cierre: (licencia espirómetro)  Ampliación y actualización
DESCRIPTION:(licencia espirómetro)  Ampliación y actualización de licencias del espirómetro de neumología del Consorcio Hospitalario Provincial de Castellón\\n\\nOrganismo: Dirección Económica del Consorcio Hospitalario Provincial de Castellón\\n\\nVer en Contratero: https://contratero.es/contracts/CMAYOR/2025/HPC00/0800
URL:https://contratero.es/contracts/CMAYOR/2025/HPC00/0800
STATUS:CONFIRMED
BEGIN:VALARM
TRIGGER:-P1D
ACTION:DISPLAY
DESCRIPTION:Recordatorio: (licencia espirómetro)  Amplia
END:VALARM
END:VEVENT
END:VCALENDAR