BEGIN:VCALENDAR
VERSION:2.0
PRODID:-//Contratero//ES
CALSCALE:GREGORIAN
METHOD:PUBLISH
BEGIN:VEVENT
UID:CMAYOR/2025/VAERS/0045@contratero.es
DTSTAMP:20260422T081314Z
DTSTART:20250813T235959
DTEND:20250814T005959
SUMMARY:Cierre: Servicio de implantación de un VSOC y servicio 24x
DESCRIPTION:Servicio de implantación de un VSOC y servicio 24x7\\n\\nOrganismo: Valenciana d'Estrategies i Recursos per a la Sostenibilitat Ambiental\, Sociedad Anónima\\n\\nVer en Contratero: https://contratero.es/contracts/CMAYOR/2025/VAERS/0045
URL:https://contratero.es/contracts/CMAYOR/2025/VAERS/0045
STATUS:CONFIRMED
BEGIN:VALARM
TRIGGER:-P1D
ACTION:DISPLAY
DESCRIPTION:Recordatorio: Servicio de implantación de un
END:VALARM
END:VEVENT
END:VCALENDAR