BEGIN:VCALENDAR
VERSION:2.0
PRODID:-//Contratero//ES
CALSCALE:GREGORIAN
METHOD:PUBLISH
BEGIN:VEVENT
UID:CNCC23/CVMC/05@contratero.es
DTSTAMP:20260425T150006Z
DTSTART:20230526T235959
DTEND:20230527T005959
SUMMARY:Cierre: Suministro\, en régimen de pago\, por uso de licenci
DESCRIPTION:Suministro\, en régimen de pago\, por uso de licencias de software VEEAM para la Corporació Valenciana de Mitjans de Comunicació\\n\\nOrganismo: Corporació Valenciana de Mitjans de Comunicació\\n\\nVer en Contratero: https://contratero.es/contracts/CNCC23/CVMC/05
URL:https://contratero.es/contracts/CNCC23/CVMC/05
STATUS:CONFIRMED
BEGIN:VALARM
TRIGGER:-P1D
ACTION:DISPLAY
DESCRIPTION:Recordatorio: Suministro\, en régimen de pago
END:VALARM
END:VEVENT
END:VCALENDAR