BEGIN:VCALENDAR
VERSION:2.0
PRODID:-//Contratero//ES
CALSCALE:GREGORIAN
METHOD:PUBLISH
BEGIN:VEVENT
UID:CNMY17/DGASRE/22@contratero.es
DTSTAMP:20260423T132100Z
DTSTART:20170922T235959
DTEND:20170923T005959
SUMMARY:Cierre: Explotación tecnológica y mantenimiento del sistem
DESCRIPTION:Explotación tecnológica y mantenimiento del sistema "CoordCom G5" de gestión de emergencias y comunicaciones del "112 Comunitat Valenciana"\\n\\nOrganismo: Presidencia de la Generalitat\\n\\nVer en Contratero: https://contratero.es/contracts/CNMY17/DGASRE/22
URL:https://contratero.es/contracts/CNMY17/DGASRE/22
STATUS:CONFIRMED
BEGIN:VALARM
TRIGGER:-P1D
ACTION:DISPLAY
DESCRIPTION:Recordatorio: Explotación tecnológica y mant
END:VALARM
END:VEVENT
END:VCALENDAR