BEGIN:VCALENDAR
VERSION:2.0
PRODID:-//Contratero//ES
CALSCALE:GREGORIAN
METHOD:PUBLISH
BEGIN:VEVENT
UID:CNMY17/DGTIC/67@contratero.es
DTSTAMP:20260424T105613Z
DTSTART:20180403T235959
DTEND:20180404T005959
SUMMARY:Cierre: Servicios de desarrollo y evolución de sistemas de
DESCRIPTION:Servicios de desarrollo y evolución de sistemas de información relativos a educación\, investigación\, cultura y deporte ( DESIGII-E4 ). 5 LOTES.\\n\\nOrganismo: Dirección General de Tecnologías de la Información y las Comunicaciones\\n\\nVer en Contratero: https://contratero.es/contracts/CNMY17/DGTIC/67
URL:https://contratero.es/contracts/CNMY17/DGTIC/67
STATUS:CONFIRMED
BEGIN:VALARM
TRIGGER:-P1D
ACTION:DISPLAY
DESCRIPTION:Recordatorio: Servicios de desarrollo y evol
END:VALARM
END:VEVENT
END:VCALENDAR