BEGIN:VCALENDAR
VERSION:2.0
PRODID:-//Contratero//ES
CALSCALE:GREGORIAN
METHOD:PUBLISH
BEGIN:VEVENT
UID:CNMY17/DGTIC/69@contratero.es
DTSTAMP:20260424T140716Z
DTSTART:20180417T235959
DTEND:20180418T005959
SUMMARY:Cierre: Servicios de desarrollo y evolución de sistemas de
DESCRIPTION:Servicios de desarrollo y evolución de sistemas de información relativos a la politica social\, productiva\, medio-ambiental\, laboral y de la gestión de subvenciones ( DESIGII-E3 ). 4 Lotes\\n\\nOrganismo: Dirección General de Tecnologías de la Información y las Comunicaciones\\n\\nVer en Contratero: https://contratero.es/contracts/CNMY17/DGTIC/69
URL:https://contratero.es/contracts/CNMY17/DGTIC/69
STATUS:CONFIRMED
BEGIN:VALARM
TRIGGER:-P1D
ACTION:DISPLAY
DESCRIPTION:Recordatorio: Servicios de desarrollo y evol
END:VALARM
END:VEVENT
END:VCALENDAR