BEGIN:VCALENDAR
VERSION:2.0
PRODID:-//Contratero//ES
CALSCALE:GREGORIAN
METHOD:PUBLISH
BEGIN:VEVENT
UID:CNMY18/DGTIC/30@contratero.es
DTSTAMP:20260424T092544Z
DTSTART:20190204T235959
DTEND:20190205T005959
SUMMARY:Cierre: Servicios de desarrollo y evolución de sistemas de
DESCRIPTION:Servicios de desarrollo y evolución de sistemas de información de Hacienda: áreas gestión de expedientes tributarios\, recaudación\, teleadministración tributaria y juego DESIGHA II-E2.\\n\\nOrganismo: Agencia Tributaria Valenciana (ATV)\\n\\nVer en Contratero: https://contratero.es/contracts/CNMY18/DGTIC/30
URL:https://contratero.es/contracts/CNMY18/DGTIC/30
STATUS:CONFIRMED
BEGIN:VALARM
TRIGGER:-P1D
ACTION:DISPLAY
DESCRIPTION:Recordatorio: Servicios de desarrollo y evol
END:VALARM
END:VEVENT
END:VCALENDAR