BEGIN:VCALENDAR
VERSION:2.0
PRODID:-//Contratero//ES
CALSCALE:GREGORIAN
METHOD:PUBLISH
BEGIN:VEVENT
UID:CNMY21/ATV/07@contratero.es
DTSTAMP:20260425T105544Z
DTSTART:20220509T235959
DTEND:20220510T005959
SUMMARY:Cierre: Servicios de soporte a usuarios de las aplicacione
DESCRIPTION:Servicios de soporte a usuarios de las aplicaciones de la Agencia Tributaria Valenciana (ATV): PROYECTO CAU-ATV\\n\\nOrganismo: Agencia Tributaria Valenciana (ATV)\\n\\nVer en Contratero: https://contratero.es/contracts/CNMY21/ATV/07
URL:https://contratero.es/contracts/CNMY21/ATV/07
STATUS:CONFIRMED
BEGIN:VALARM
TRIGGER:-P1D
ACTION:DISPLAY
DESCRIPTION:Recordatorio: Servicios de soporte a usuario
END:VALARM
END:VEVENT
END:VCALENDAR