BEGIN:VCALENDAR
VERSION:2.0
PRODID:-//Contratero//ES
CALSCALE:GREGORIAN
METHOD:PUBLISH
BEGIN:VEVENT
UID:CNMY21/CVMC/33@contratero.es
DTSTAMP:20260420T182030Z
DTSTART:20210901T235959
DTEND:20210902T005959
SUMMARY:Cierre: Servicio de gestión de las comunicaciones corporat
DESCRIPTION:Servicio de gestión de las comunicaciones corporativas de la Corporació Valenciana de Mitjans de Comunicació (CVMC)\\n\\nOrganismo: Corporació Valenciana de Mitjans de Comunicació\\n\\nVer en Contratero: https://contratero.es/contracts/CNMY21/CVMC/33
URL:https://contratero.es/contracts/CNMY21/CVMC/33
STATUS:CONFIRMED
BEGIN:VALARM
TRIGGER:-P1D
ACTION:DISPLAY
DESCRIPTION:Recordatorio: Servicio de gestión de las com
END:VALARM
END:VEVENT
END:VCALENDAR