BEGIN:VCALENDAR
VERSION:2.0
PRODID:-//Contratero//ES
CALSCALE:GREGORIAN
METHOD:PUBLISH
BEGIN:VEVENT
UID:CNMY21/DGTIC/55@contratero.es
DTSTAMP:20260421T234407Z
DTSTART:20220919T235959
DTEND:20220920T005959
SUMMARY:Cierre: Servicios de desarrollo y evolución de sistemas de
DESCRIPTION:Servicios de desarrollo y evolución de sistemas de información de economía sostenible\, sectores productivos\, comercio\, trabajo y empleo (Proyecto DESIG3 - SIESO)\\n\\nOrganismo: Dirección General de Tecnologías de la Información y las Comunicaciones\\n\\nVer en Contratero: https://contratero.es/contracts/CNMY21/DGTIC/55
URL:https://contratero.es/contracts/CNMY21/DGTIC/55
STATUS:CONFIRMED
BEGIN:VALARM
TRIGGER:-P1D
ACTION:DISPLAY
DESCRIPTION:Recordatorio: Servicios de desarrollo y evol
END:VALARM
END:VEVENT
END:VCALENDAR