BEGIN:VCALENDAR
VERSION:2.0
PRODID:-//Contratero//ES
CALSCALE:GREGORIAN
METHOD:PUBLISH
BEGIN:VEVENT
UID:CNMY22/DGTIC/17@contratero.es
DTSTAMP:20260421T135120Z
DTSTART:20221201T235959
DTEND:20221202T005959
SUMMARY:Cierre: Servicios de desarrollo y evolución de sistemas de
DESCRIPTION:Servicios de desarrollo y evolución de sistemas de información relativos a activos software en el ámbito de las competencias de modernización de la Dirección General de Tecnologías de la Información y...\\n\\nOrganismo: Dirección General de Tecnologías de la Información y las Comunicaciones\\n\\nVer en Contratero: https://contratero.es/contracts/CNMY22/DGTIC/17
URL:https://contratero.es/contracts/CNMY22/DGTIC/17
STATUS:CONFIRMED
BEGIN:VALARM
TRIGGER:-P1D
ACTION:DISPLAY
DESCRIPTION:Recordatorio: Servicios de desarrollo y evol
END:VALARM
END:VEVENT
END:VCALENDAR