BEGIN:VCALENDAR
VERSION:2.0
PRODID:-//Contratero//ES
CALSCALE:GREGORIAN
METHOD:PUBLISH
BEGIN:VEVENT
UID:CNMY24_AVAP-2@contratero.es
DTSTAMP:20260421T203617Z
DTSTART:20240509T235959
DTEND:20240510T005959
SUMMARY:Cierre: Gestionar la página web de la agencia www.avap.es 
DESCRIPTION:Gestionar la página web de la agencia www.avap.es y realizar todas las modificaciones y actualizaciones que sean necesarias\, de acuerdo con las instrucciones facilitadas por el personal de la agencia\,...\\n\\nOrganismo: Agència Valenciana d'Avaluació i Prospectiva\\n\\nVer en Contratero: https://contratero.es/contracts/CNMY24_AVAP-2
URL:https://contratero.es/contracts/CNMY24_AVAP-2
STATUS:CONFIRMED
BEGIN:VALARM
TRIGGER:-P1D
ACTION:DISPLAY
DESCRIPTION:Recordatorio: Gestionar la página web de la 
END:VALARM
END:VEVENT
END:VCALENDAR