BEGIN:VCALENDAR
VERSION:2.0
PRODID:-//Contratero//ES
CALSCALE:GREGORIAN
METHOD:PUBLISH
BEGIN:VEVENT
UID:CNMY25/CACVSA/22@contratero.es
DTSTAMP:20260420T090614Z
DTSTART:20250725T235959
DTEND:20250726T005959
SUMMARY:Cierre: Servicio de gestión de contenidos del portal web d
DESCRIPTION:Servicio de gestión de contenidos del portal web de apoyo al aprendizaje de lenguas para la Corporació Audiovisual de la Comunitat Valenciana S.A. (CACVSA)\\n\\nOrganismo: Dirección General de la Corporación Audiovisual de la Comunitat Valenciana\, S.A.\\n\\nVer en Contratero: https://contratero.es/contracts/CNMY25/CACVSA/22
URL:https://contratero.es/contracts/CNMY25/CACVSA/22
STATUS:CONFIRMED
BEGIN:VALARM
TRIGGER:-P1D
ACTION:DISPLAY
DESCRIPTION:Recordatorio: Servicio de gestión de conteni
END:VALARM
END:VEVENT
END:VCALENDAR