BEGIN:VCALENDAR
VERSION:2.0
PRODID:-//Contratero//ES
CALSCALE:GREGORIAN
METHOD:PUBLISH
BEGIN:VEVENT
UID:CO-2020/930@contratero.es
DTSTAMP:20260422T062852Z
DTSTART:20210104T235959
DTEND:20210105T005959
SUMMARY:Cierre: Servicio de mantenimiento de los sistemas de infor
DESCRIPTION:Servicio de mantenimiento de los sistemas de información corporativos y del equipamiento información corporativos y del equipamiento ofimática de la Diputación Provincial de Jaén\\n\\nOrganismo: Presidencia de la Diputación Provincial de Jaén\\n\\nVer en Contratero: https://contratero.es/contracts/CO-2020/930
URL:https://contratero.es/contracts/CO-2020/930
STATUS:CONFIRMED
BEGIN:VALARM
TRIGGER:-P1D
ACTION:DISPLAY
DESCRIPTION:Recordatorio: Servicio de mantenimiento de l
END:VALARM
END:VEVENT
END:VCALENDAR