BEGIN:VCALENDAR
VERSION:2.0
PRODID:-//Contratero//ES
CALSCALE:GREGORIAN
METHOD:PUBLISH
BEGIN:VEVENT
UID:CO-2024/001861@contratero.es
DTSTAMP:20260421T220644Z
DTSTART:20250707T235959
DTEND:20250708T005959
SUMMARY:Cierre: Contrato mixto servicio-suministro "Proyecto de tr
DESCRIPTION:Contrato mixto servicio-suministro "Proyecto de transformación digital y modernización del padrón municipal de las entidades locales de la provincia de Jaén"\, Plan de recuperación\, transformación y re...\\n\\nOrganismo: Presidencia de la Diputación Provincial de Jaén\\n\\nVer en Contratero: https://contratero.es/contracts/CO-2024/001861
URL:https://contratero.es/contracts/CO-2024/001861
STATUS:CONFIRMED
BEGIN:VALARM
TRIGGER:-P1D
ACTION:DISPLAY
DESCRIPTION:Recordatorio: Contrato mixto servicio-sumini
END:VALARM
END:VEVENT
END:VCALENDAR