BEGIN:VCALENDAR
VERSION:2.0
PRODID:-//Contratero//ES
CALSCALE:GREGORIAN
METHOD:PUBLISH
BEGIN:VEVENT
UID:CO-2024/002968@contratero.es
DTSTAMP:20260419T164628Z
DTSTART:20250313T235959
DTEND:20250314T005959
SUMMARY:Cierre: Contrato de Servicios de adecuación al RGPD y al E
DESCRIPTION:Contrato de Servicios de adecuación al RGPD y al ENS y de actualización del inventario municipal de bienes para varios municipios de la provincia en Diputación Provincial de Jaén\\n\\nOrganismo: Presidencia de la Diputación Provincial de Jaén\\n\\nVer en Contratero: https://contratero.es/contracts/CO-2024/002968
URL:https://contratero.es/contracts/CO-2024/002968
STATUS:CONFIRMED
BEGIN:VALARM
TRIGGER:-P1D
ACTION:DISPLAY
DESCRIPTION:Recordatorio: Contrato de Servicios de adecu
END:VALARM
END:VEVENT
END:VCALENDAR