BEGIN:VCALENDAR
VERSION:2.0
PRODID:-//Contratero//ES
CALSCALE:GREGORIAN
METHOD:PUBLISH
BEGIN:VEVENT
UID:CO-2025/001596@contratero.es
DTSTAMP:20260421T140033Z
DTSTART:20250908T235959
DTEND:20250909T005959
SUMMARY:Cierre: Contrato mixto de servicio-suministro "Despliegue 
DESCRIPTION:Contrato mixto de servicio-suministro "Despliegue de plataforma inteligente y soluciones digitales de la Diputación de Jaén en la Red de Destinos Turísticos Inteligentes". Plan de Recuperación\, Transf...\\n\\nOrganismo: Presidencia de la Diputación Provincial de Jaén\\n\\nVer en Contratero: https://contratero.es/contracts/CO-2025/001596
URL:https://contratero.es/contracts/CO-2025/001596
STATUS:CONFIRMED
BEGIN:VALARM
TRIGGER:-P1D
ACTION:DISPLAY
DESCRIPTION:Recordatorio: Contrato mixto de servicio-sum
END:VALARM
END:VEVENT
END:VCALENDAR