BEGIN:VCALENDAR
VERSION:2.0
PRODID:-//Contratero//ES
CALSCALE:GREGORIAN
METHOD:PUBLISH
BEGIN:VEVENT
UID:CON-2022/9901537.0@contratero.es
DTSTAMP:20260423T194937Z
DTSTART:20221007T235959
DTEND:20221008T005959
SUMMARY:Cierre: Suministro de terminales móviles\, sistema de gesti
DESCRIPTION:Suministro de terminales móviles\, sistema de gestión de dispositivos y servicios asociados\\n\\nOrganismo: Mesa del Congreso de los Diputados\\n\\nVer en Contratero: https://contratero.es/contracts/CON-2022/9901537.0
URL:https://contratero.es/contracts/CON-2022/9901537.0
STATUS:CONFIRMED
BEGIN:VALARM
TRIGGER:-P1D
ACTION:DISPLAY
DESCRIPTION:Recordatorio: Suministro de terminales móvil
END:VALARM
END:VEVENT
END:VCALENDAR