BEGIN:VCALENDAR
VERSION:2.0
PRODID:-//Contratero//ES
CALSCALE:GREGORIAN
METHOD:PUBLISH
BEGIN:VEVENT
UID:CON-3903@contratero.es
DTSTAMP:20260423T224254Z
DTSTART:20230130T235959
DTEND:20230131T005959
SUMMARY:Cierre: Implantación de una zona de bajas emisiones (ZBE) 
DESCRIPTION:Implantación de una zona de bajas emisiones (ZBE) en el municipio de Guadalajara\, cofinanciada con fondos europeos “Next Generation-EU” en el marco del Plan de Recuperación Transformación y Resilienci...\\n\\nOrganismo: Alcaldía del Ayuntamiento de Guadalajara\\n\\nVer en Contratero: https://contratero.es/contracts/CON-3903
URL:https://contratero.es/contracts/CON-3903
STATUS:CONFIRMED
BEGIN:VALARM
TRIGGER:-P1D
ACTION:DISPLAY
DESCRIPTION:Recordatorio: Implantación de una zona de ba
END:VALARM
END:VEVENT
END:VCALENDAR