BEGIN:VCALENDAR
VERSION:2.0
PRODID:-//Contratero//ES
CALSCALE:GREGORIAN
METHOD:PUBLISH
BEGIN:VEVENT
UID:CON-3988@contratero.es
DTSTAMP:20260425T181904Z
DTSTART:20230719T235959
DTEND:20230720T005959
SUMMARY:Cierre: Suministro de licencia\, garantía\, soporte y manten
DESCRIPTION:Suministro de licencia\, garantía\, soporte y mantenimiento del software degestión online de formación Atenea del Área de Cultura del Ayuntamiento de Guadalajara\\n\\nOrganismo: Junta de Gobierno del Ayuntamiento de Guadalajara\\n\\nVer en Contratero: https://contratero.es/contracts/CON-3988
URL:https://contratero.es/contracts/CON-3988
STATUS:CONFIRMED
BEGIN:VALARM
TRIGGER:-P1D
ACTION:DISPLAY
DESCRIPTION:Recordatorio: Suministro de licencia\, garant
END:VALARM
END:VEVENT
END:VCALENDAR