BEGIN:VCALENDAR
VERSION:2.0
PRODID:-//Contratero//ES
CALSCALE:GREGORIAN
METHOD:PUBLISH
BEGIN:VEVENT
UID:CON-4231@contratero.es
DTSTAMP:20260420T032144Z
DTSTART:20240809T235959
DTEND:20240810T005959
SUMMARY:Cierre: Servicio de mantenimiento del portal web municipal
DESCRIPTION:Servicio de mantenimiento del portal web municipal “www.guadalajara.es” del Ayuntamiento de Guadalajara\\n\\nOrganismo: Alcaldía del Ayuntamiento de Guadalajara\\n\\nVer en Contratero: https://contratero.es/contracts/CON-4231
URL:https://contratero.es/contracts/CON-4231
STATUS:CONFIRMED
BEGIN:VALARM
TRIGGER:-P1D
ACTION:DISPLAY
DESCRIPTION:Recordatorio: Servicio de mantenimiento del 
END:VALARM
END:VEVENT
END:VCALENDAR