BEGIN:VCALENDAR
VERSION:2.0
PRODID:-//Contratero//ES
CALSCALE:GREGORIAN
METHOD:PUBLISH
BEGIN:VEVENT
UID:CON-SERV-2025000107@contratero.es
DTSTAMP:20260423T100833Z
DTSTART:20251201T235959
DTEND:20251202T005959
SUMMARY:Cierre: Puesta en marcha\, configuración y mantenimiento de
DESCRIPTION:Puesta en marcha\, configuración y mantenimiento de una solución de gestión de accesos privilegiados (PAM – Privileged Access Management) para el Ayuntamiento de Cáceres\\n\\nOrganismo: Alcaldía del Ayuntamiento de Cáceres\\n\\nVer en Contratero: https://contratero.es/contracts/CON-SERV-2025000107
URL:https://contratero.es/contracts/CON-SERV-2025000107
STATUS:CONFIRMED
BEGIN:VALARM
TRIGGER:-P1D
ACTION:DISPLAY
DESCRIPTION:Recordatorio: Puesta en marcha\, configuració
END:VALARM
END:VEVENT
END:VCALENDAR