BEGIN:VCALENDAR
VERSION:2.0
PRODID:-//Contratero//ES
CALSCALE:GREGORIAN
METHOD:PUBLISH
BEGIN:VEVENT
UID:CON-SUMIN-2025000097@contratero.es
DTSTAMP:20260422T130658Z
DTSTART:20251117T235959
DTEND:20251118T005959
SUMMARY:Cierre: Renovación de las licencias de Veeam Backup
DESCRIPTION:Renovación de las licencias de Veeam Backup\\n\\nOrganismo: Alcaldía del Ayuntamiento de Cáceres\\n\\nVer en Contratero: https://contratero.es/contracts/CON-SUMIN-2025000097
URL:https://contratero.es/contracts/CON-SUMIN-2025000097
STATUS:CONFIRMED
BEGIN:VALARM
TRIGGER:-P1D
ACTION:DISPLAY
DESCRIPTION:Recordatorio: Renovación de las licencias de
END:VALARM
END:VEVENT
END:VCALENDAR