BEGIN:VCALENDAR
VERSION:2.0
PRODID:-//Contratero//ES
CALSCALE:GREGORIAN
METHOD:PUBLISH
BEGIN:VEVENT
UID:CON/09/2022@contratero.es
DTSTAMP:20260423T212132Z
DTSTART:20221205T235959
DTEND:20221206T005959
SUMMARY:Cierre: Desarrollo e implantación de una plataforma de mov
DESCRIPTION:Desarrollo e implantación de una plataforma de movilidad como servicio (MaaS)\, perteneciente al Plan de Recuperación\, Transformación y Resiliencia\, financiado en el marco de los fondos NEXTGENERATION ...\\n\\nOrganismo: Consorcio de Transportes del Área de Zaragoza\\n\\nVer en Contratero: https://contratero.es/contracts/CON/09/2022
URL:https://contratero.es/contracts/CON/09/2022
STATUS:CONFIRMED
BEGIN:VALARM
TRIGGER:-P1D
ACTION:DISPLAY
DESCRIPTION:Recordatorio: Desarrollo e implantación de u
END:VALARM
END:VEVENT
END:VCALENDAR