BEGIN:VCALENDAR
VERSION:2.0
PRODID:-//Contratero//ES
CALSCALE:GREGORIAN
METHOD:PUBLISH
BEGIN:VEVENT
UID:CON/2021/0010@contratero.es
DTSTAMP:20260425T124821Z
DTSTART:20210305T235959
DTEND:20210306T005959
SUMMARY:Cierre: Servicio de mantenimiento del software de gestión 
DESCRIPTION:Servicio de mantenimiento del software de gestión de personal y nóminas del Ayuntamiento de Don Benito\\n\\nOrganismo: Alcaldia del Ayuntamiento de Don Benito\\n\\nVer en Contratero: https://contratero.es/contracts/CON/2021/0010
URL:https://contratero.es/contracts/CON/2021/0010
STATUS:CONFIRMED
BEGIN:VALARM
TRIGGER:-P1D
ACTION:DISPLAY
DESCRIPTION:Recordatorio: Servicio de mantenimiento del 
END:VALARM
END:VEVENT
END:VCALENDAR