BEGIN:VCALENDAR
VERSION:2.0
PRODID:-//Contratero//ES
CALSCALE:GREGORIAN
METHOD:PUBLISH
BEGIN:VEVENT
UID:CON/2024/52@contratero.es
DTSTAMP:20260423T121219Z
DTSTART:20241105T235959
DTEND:20241106T005959
SUMMARY:Cierre: Suministro de licencias de autoCAD y corelDRAW par
DESCRIPTION:Suministro de licencias de autoCAD y corelDRAW para el negociado de urbanismo del Ayuntamiento de Cangas del Narcea\\n\\nOrganismo: Alcaldía del Ayuntamiento de Cangas del Narcea\\n\\nVer en Contratero: https://contratero.es/contracts/CON/2024/52
URL:https://contratero.es/contracts/CON/2024/52
STATUS:CONFIRMED
BEGIN:VALARM
TRIGGER:-P1D
ACTION:DISPLAY
DESCRIPTION:Recordatorio: Suministro de licencias de aut
END:VALARM
END:VEVENT
END:VCALENDAR