BEGIN:VCALENDAR
VERSION:2.0
PRODID:-//Contratero//ES
CALSCALE:GREGORIAN
METHOD:PUBLISH
BEGIN:VEVENT
UID:CON/2025/76@contratero.es
DTSTAMP:20260421T154213Z
DTSTART:20250826T235959
DTEND:20250827T005959
SUMMARY:Cierre: Suministro licencia del programa PRESTO para el Ne
DESCRIPTION:Suministro licencia del programa PRESTO para el Negociado de Urbanismo\\n\\nOrganismo: Alcaldía del Ayuntamiento de Cangas del Narcea\\n\\nVer en Contratero: https://contratero.es/contracts/CON/2025/76
URL:https://contratero.es/contracts/CON/2025/76
STATUS:CONFIRMED
BEGIN:VALARM
TRIGGER:-P1D
ACTION:DISPLAY
DESCRIPTION:Recordatorio: Suministro licencia del progra
END:VALARM
END:VEVENT
END:VCALENDAR