BEGIN:VCALENDAR
VERSION:2.0
PRODID:-//Contratero//ES
CALSCALE:GREGORIAN
METHOD:PUBLISH
BEGIN:VEVENT
UID:CON/2026/44@contratero.es
DTSTAMP:20260420T030344Z
DTSTART:20260321T235959
DTEND:20260322T005959
SUMMARY:Cierre: Procedimiento abierto para la contratación del sum
DESCRIPTION:Procedimiento abierto para la contratación del suministro de varias licencias de la plataforma Microsoft 365\\n\\nOrganismo: Alcaldía del Ayuntamiento de Aller\\n\\nVer en Contratero: https://contratero.es/contracts/CON/2026/44
URL:https://contratero.es/contracts/CON/2026/44
STATUS:CONFIRMED
BEGIN:VALARM
TRIGGER:-P1D
ACTION:DISPLAY
DESCRIPTION:Recordatorio: Procedimiento abierto para la 
END:VALARM
END:VEVENT
END:VCALENDAR