BEGIN:VCALENDAR
VERSION:2.0
PRODID:-//Contratero//ES
CALSCALE:GREGORIAN
METHOD:PUBLISH
BEGIN:VEVENT
UID:CON/33/2021@contratero.es
DTSTAMP:20260419T134754Z
DTSTART:20211213T235959
DTEND:20211214T005959
SUMMARY:Cierre: Portal Web Oficial de Turismo del Ayuntamiento de 
DESCRIPTION:Portal Web Oficial de Turismo del Ayuntamiento de Medio Cudeyo\\n\\nOrganismo: Alcaldía del Ayuntamiento de Medio Cudeyo\\n\\nVer en Contratero: https://contratero.es/contracts/CON/33/2021
URL:https://contratero.es/contracts/CON/33/2021
STATUS:CONFIRMED
BEGIN:VALARM
TRIGGER:-P1D
ACTION:DISPLAY
DESCRIPTION:Recordatorio: Portal Web Oficial de Turismo 
END:VALARM
END:VEVENT
END:VCALENDAR