BEGIN:VCALENDAR
VERSION:2.0
PRODID:-//Contratero//ES
CALSCALE:GREGORIAN
METHOD:PUBLISH
BEGIN:VEVENT
UID:CON2019208@contratero.es
DTSTAMP:20260421T140534Z
DTSTART:20200110T235959
DTEND:20200111T005959
SUMMARY:Cierre: Filtrado correo antispam spamina. a fin de evitar 
DESCRIPTION:Filtrado correo antispam spamina. a fin de evitar los ataques cibernéticos e infecciones informáticas y el correo spam en el correo electrónico corporativo\\n\\nOrganismo: Junta de Gobierno del Ayuntamiento de León\\n\\nVer en Contratero: https://contratero.es/contracts/CON2019208
URL:https://contratero.es/contracts/CON2019208
STATUS:CONFIRMED
BEGIN:VALARM
TRIGGER:-P1D
ACTION:DISPLAY
DESCRIPTION:Recordatorio: Filtrado correo antispam spami
END:VALARM
END:VEVENT
END:VCALENDAR