BEGIN:VCALENDAR
VERSION:2.0
PRODID:-//Contratero//ES
CALSCALE:GREGORIAN
METHOD:PUBLISH
BEGIN:VEVENT
UID:CON2022000047@contratero.es
DTSTAMP:20260423T030945Z
DTSTART:20230102T235959
DTEND:20230103T005959
SUMMARY:Cierre: Servizo de mantemento aplicativo camiños escolares
DESCRIPTION:Servizo de mantemento aplicativo camiños escolares seguros “Colecamiños”\\n\\nOrganismo: Xunta de Goberno del Ayuntamiento de Santiago de Compostela\\n\\nVer en Contratero: https://contratero.es/contracts/CON2022000047
URL:https://contratero.es/contracts/CON2022000047
STATUS:CONFIRMED
BEGIN:VALARM
TRIGGER:-P1D
ACTION:DISPLAY
DESCRIPTION:Recordatorio: Servizo de mantemento aplicati
END:VALARM
END:VEVENT
END:VCALENDAR