BEGIN:VCALENDAR
VERSION:2.0
PRODID:-//Contratero//ES
CALSCALE:GREGORIAN
METHOD:PUBLISH
BEGIN:VEVENT
UID:CON2025137@contratero.es
DTSTAMP:20260420T210909Z
DTSTART:20251204T235959
DTEND:20251205T005959
SUMMARY:Cierre: Contratación de los servicios para la elaboración 
DESCRIPTION:Contratación de los servicios para la elaboración del Plan Director de turismo gastronómico y programa de incentivación del turismo MICE\, correspondiente a las actuaciones 1 y 3 del eje 4\, competitivi...\\n\\nOrganismo: Junta de Gobierno del Ayuntamiento de León\\n\\nVer en Contratero: https://contratero.es/contracts/CON2025137
URL:https://contratero.es/contracts/CON2025137
STATUS:CONFIRMED
BEGIN:VALARM
TRIGGER:-P1D
ACTION:DISPLAY
DESCRIPTION:Recordatorio: Contratación de los servicios 
END:VALARM
END:VEVENT
END:VCALENDAR