BEGIN:VCALENDAR
VERSION:2.0
PRODID:-//Contratero//ES
CALSCALE:GREGORIAN
METHOD:PUBLISH
BEGIN:VEVENT
UID:CON2025152@contratero.es
DTSTAMP:20260421T091301Z
DTSTART:20251210T235959
DTEND:20251211T005959
SUMMARY:Cierre: Suministro de licencias de correo corporativo y of
DESCRIPTION:Suministro de licencias de correo corporativo y office para renovar las existentes actualmente en el Ayuntamiento de León\\n\\nOrganismo: Junta de Gobierno del Ayuntamiento de León\\n\\nVer en Contratero: https://contratero.es/contracts/CON2025152
URL:https://contratero.es/contracts/CON2025152
STATUS:CONFIRMED
BEGIN:VALARM
TRIGGER:-P1D
ACTION:DISPLAY
DESCRIPTION:Recordatorio: Suministro de licencias de cor
END:VALARM
END:VEVENT
END:VCALENDAR