BEGIN:VCALENDAR
VERSION:2.0
PRODID:-//Contratero//ES
CALSCALE:GREGORIAN
METHOD:PUBLISH
BEGIN:VEVENT
UID:CON21-2018/0357@contratero.es
DTSTAMP:20260425T230059Z
DTSTART:20190114T235959
DTEND:20190115T005959
SUMMARY:Cierre: Puesta en funcionamiento del Observatorio del Turi
DESCRIPTION:Puesta en funcionamiento del Observatorio del Turismo y del Comercio de Logroño.\\n\\nOrganismo: Junta de Gobierno del Ayuntamiento de Logroño\\n\\nVer en Contratero: https://contratero.es/contracts/CON21-2018/0357
URL:https://contratero.es/contracts/CON21-2018/0357
STATUS:CONFIRMED
BEGIN:VALARM
TRIGGER:-P1D
ACTION:DISPLAY
DESCRIPTION:Recordatorio: Puesta en funcionamiento del O
END:VALARM
END:VEVENT
END:VCALENDAR