BEGIN:VCALENDAR
VERSION:2.0
PRODID:-//Contratero//ES
CALSCALE:GREGORIAN
METHOD:PUBLISH
BEGIN:VEVENT
UID:CON21-2024/0100@contratero.es
DTSTAMP:20260422T130536Z
DTSTART:20240527T235959
DTEND:20240528T005959
SUMMARY:Cierre: Licenciamiento de productos Microsoft
DESCRIPTION:Licenciamiento de productos Microsoft\\n\\nOrganismo: Junta de Gobierno del Ayuntamiento de Logroño\\n\\nVer en Contratero: https://contratero.es/contracts/CON21-2024/0100
URL:https://contratero.es/contracts/CON21-2024/0100
STATUS:CONFIRMED
BEGIN:VALARM
TRIGGER:-P1D
ACTION:DISPLAY
DESCRIPTION:Recordatorio: Licenciamiento de productos Mi
END:VALARM
END:VEVENT
END:VCALENDAR