BEGIN:VCALENDAR
VERSION:2.0
PRODID:-//Contratero//ES
CALSCALE:GREGORIAN
METHOD:PUBLISH
BEGIN:VEVENT
UID:CON21-2025/0143@contratero.es
DTSTAMP:20260424T175151Z
DTSTART:20250721T235959
DTEND:20250722T005959
SUMMARY:Cierre: Servicio de desarrollo e implementación de un Geme
DESCRIPTION:Servicio de desarrollo e implementación de un Gemelo Digital de eficiencia energética y alumbrado\\n\\nOrganismo: Junta de Gobierno del Ayuntamiento de Logroño\\n\\nVer en Contratero: https://contratero.es/contracts/CON21-2025/0143
URL:https://contratero.es/contracts/CON21-2025/0143
STATUS:CONFIRMED
BEGIN:VALARM
TRIGGER:-P1D
ACTION:DISPLAY
DESCRIPTION:Recordatorio: Servicio de desarrollo e imple
END:VALARM
END:VEVENT
END:VCALENDAR