BEGIN:VCALENDAR
VERSION:2.0
PRODID:-//Contratero//ES
CALSCALE:GREGORIAN
METHOD:PUBLISH
BEGIN:VEVENT
UID:CON21-2025/0205@contratero.es
DTSTAMP:20260421T054159Z
DTSTART:20251006T235959
DTEND:20251007T005959
SUMMARY:Cierre: Contratación del servicio de desarrollo e implemen
DESCRIPTION:Contratación del servicio de desarrollo e implementación de un gemelo digital de flujos de movilidad\\n\\nOrganismo: Junta de Gobierno del Ayuntamiento de Logroño\\n\\nVer en Contratero: https://contratero.es/contracts/CON21-2025/0205
URL:https://contratero.es/contracts/CON21-2025/0205
STATUS:CONFIRMED
BEGIN:VALARM
TRIGGER:-P1D
ACTION:DISPLAY
DESCRIPTION:Recordatorio: Contratación del servicio de d
END:VALARM
END:VEVENT
END:VCALENDAR