BEGIN:VCALENDAR
VERSION:2.0
PRODID:-//Contratero//ES
CALSCALE:GREGORIAN
METHOD:PUBLISH
BEGIN:VEVENT
UID:CON21-2025/0233@contratero.es
DTSTAMP:20260422T074048Z
DTSTART:20250915T235959
DTEND:20250916T005959
SUMMARY:Cierre: Servicio de Diseño\, Diseño del Modelo Abierto de G
DESCRIPTION:Servicio de Diseño\, Diseño del Modelo Abierto de Gemelo Digital de Logroño para el proyecto RETECH  de Gemelos Digitales.\\n\\nOrganismo: Junta de Gobierno del Ayuntamiento de Logroño\\n\\nVer en Contratero: https://contratero.es/contracts/CON21-2025/0233
URL:https://contratero.es/contracts/CON21-2025/0233
STATUS:CONFIRMED
BEGIN:VALARM
TRIGGER:-P1D
ACTION:DISPLAY
DESCRIPTION:Recordatorio: Servicio de Diseño\, Diseño del
END:VALARM
END:VEVENT
END:VCALENDAR