BEGIN:VCALENDAR
VERSION:2.0
PRODID:-//Contratero//ES
CALSCALE:GREGORIAN
METHOD:PUBLISH
BEGIN:VEVENT
UID:CONP/2024/12884@contratero.es
DTSTAMP:20260421T234423Z
DTSTART:20250128T235959
DTEND:20250129T005959
SUMMARY:Cierre: Suscripción de licencias de uso de productos de so
DESCRIPTION:Suscripción de licencias de uso de productos de software de colaboración y productividad para el puesto de trabajo de usuario en el ámbito de la Administración del Principado de Asturias\\n\\nOrganismo: Consejería de Presidencia\, Reto Demográfico\, Igualdad y Turismo del Principado de Asturias\\n\\nVer en Contratero: https://contratero.es/contracts/CONP/2024/12884
URL:https://contratero.es/contracts/CONP/2024/12884
STATUS:CONFIRMED
BEGIN:VALARM
TRIGGER:-P1D
ACTION:DISPLAY
DESCRIPTION:Recordatorio: Suscripción de licencias de us
END:VALARM
END:VEVENT
END:VCALENDAR