BEGIN:VCALENDAR
VERSION:2.0
PRODID:-//Contratero//ES
CALSCALE:GREGORIAN
METHOD:PUBLISH
BEGIN:VEVENT
UID:CONP/2025/12245@contratero.es
DTSTAMP:20260420T123449Z
DTSTART:20260107T235959
DTEND:20260108T005959
SUMMARY:Cierre: Ampliación de licencias del servidor de aplicacion
DESCRIPTION:Ampliación de licencias del servidor de aplicaciones para el sistema Millenium\\n\\nOrganismo: Consejería de Presidencia\, Reto Demográfico\, Igualdad y Turismo del Principado de Asturias\\n\\nVer en Contratero: https://contratero.es/contracts/CONP/2025/12245
URL:https://contratero.es/contracts/CONP/2025/12245
STATUS:CONFIRMED
BEGIN:VALARM
TRIGGER:-P1D
ACTION:DISPLAY
DESCRIPTION:Recordatorio: Ampliación de licencias del se
END:VALARM
END:VEVENT
END:VCALENDAR