BEGIN:VCALENDAR
VERSION:2.0
PRODID:-//Contratero//ES
CALSCALE:GREGORIAN
METHOD:PUBLISH
BEGIN:VEVENT
UID:CONT237/2020@contratero.es
DTSTAMP:20260425T012819Z
DTSTART:20210519T235959
DTEND:20210520T005959
SUMMARY:Cierre: El derecho de uso de un software de corrección aut
DESCRIPTION:El derecho de uso de un software de corrección automática de exámenes tipo test y su mantenimiento.\\n\\nOrganismo: Presidencia del Instituto Insular de Atención Social y Sociosanitaria - IASS\\n\\nVer en Contratero: https://contratero.es/contracts/CONT237/2020
URL:https://contratero.es/contracts/CONT237/2020
STATUS:CONFIRMED
BEGIN:VALARM
TRIGGER:-P1D
ACTION:DISPLAY
DESCRIPTION:Recordatorio: El derecho de uso de un softwa
END:VALARM
END:VEVENT
END:VCALENDAR