BEGIN:VCALENDAR
VERSION:2.0
PRODID:-//Contratero//ES
CALSCALE:GREGORIAN
METHOD:PUBLISH
BEGIN:VEVENT
UID:CONTR-2025000038@contratero.es
DTSTAMP:20260422T033041Z
DTSTART:20250605T235959
DTEND:20250606T005959
SUMMARY:Cierre: Suministro para la adquisición de seis licencias (
DESCRIPTION:Suministro para la adquisición de seis licencias (cinco de usuario y una de administrador) para realizar videoconferencias a través de una plataforma web que será administrada por los técnicos del Ayu...\\n\\nOrganismo: Junta de Gobierno del Ayuntamiento de Fuengirola\\n\\nVer en Contratero: https://contratero.es/contracts/CONTR-2025000038
URL:https://contratero.es/contracts/CONTR-2025000038
STATUS:CONFIRMED
BEGIN:VALARM
TRIGGER:-P1D
ACTION:DISPLAY
DESCRIPTION:Recordatorio: Suministro para la adquisición
END:VALARM
END:VEVENT
END:VCALENDAR