BEGIN:VCALENDAR
VERSION:2.0
PRODID:-//Contratero//ES
CALSCALE:GREGORIAN
METHOD:PUBLISH
BEGIN:VEVENT
UID:CONTR13784/2019@contratero.es
DTSTAMP:20260424T212842Z
DTSTART:20200519T235959
DTEND:20200520T005959
SUMMARY:Cierre: Implantación integral\, soporte y mantenimiento de 
DESCRIPTION:Implantación integral\, soporte y mantenimiento de un gestor electrónico de expedientes de contratación\, convenios y patrimonio para la Administración de la CAIB y su sector público instrumental.\\n\\nOrganismo: Consejería de Hacienda y Relaciones Exteriores\\n\\nVer en Contratero: https://contratero.es/contracts/CONTR13784/2019
URL:https://contratero.es/contracts/CONTR13784/2019
STATUS:CONFIRMED
BEGIN:VALARM
TRIGGER:-P1D
ACTION:DISPLAY
DESCRIPTION:Recordatorio: Implantación integral\, soporte
END:VALARM
END:VEVENT
END:VCALENDAR